BEGIN:VCALENDAR
VERSION:2.0
PRODID:GIGPRESS 2.0 WORDPRESS PLUGIN
CALSCALE:GREGORIAN
X-WR-TIMEZONE:Etc/GMT
METHOD:PUBLISH
BEGIN:VTIMEZONE
TZID:GMT
BEGIN:STANDARD
DTSTART:20071028T010000
TZOFFSETTO:+0000
TZOFFSETFROM:+0000
END:STANDARD
END:VTIMEZONE
BEGIN:VEVENT
SUMMARY:Aubrey Wollett at Hawk's Nest House Concert
DESCRIPTION:All Ages
LOCATION:Hawk's Nest House Concert\, 3649 SW 86th Terrace\, Ocala\, US
UID:20260516T160000Z-1097-aubrey.wollett@gmail.com
URL:http://www.aubreywollett.com/shows/
DTSTART;VALUE=DATE-TIME;TZID=GMT:20260516T160000Z
DTEND;VALUE=DATE-TIME;TZID=GMT:20260516T160000Z
DTSTAMP:20260423T121209Z
END:VEVENT
END:VCALENDAR