BEGIN:VCALENDAR
VERSION:2.0
PRODID:GIGPRESS 2.0 WORDPRESS PLUGIN
CALSCALE:GREGORIAN
X-WR-TIMEZONE:Etc/GMT
METHOD:PUBLISH
BEGIN:VTIMEZONE
TZID:GMT
BEGIN:STANDARD
DTSTART:20071028T010000
TZOFFSETTO:+0000
TZOFFSETFROM:+0000
END:STANDARD
END:VTIMEZONE
BEGIN:VEVENT
SUMMARY:Aubrey Wollett at Summer Chill (Trop Rock Music Fest)
DESCRIPTION:All Ages
LOCATION:Summer Chill (Trop Rock Music Fest)\, Shaumburg\, US
UID:20260731T120000Z-1101-aubrey.wollett@gmail.com
URL:http://www.aubreywollett.com/shows/
DTSTART;VALUE=DATE-TIME;TZID=GMT:20260731T120000Z
DTEND;VALUE=DATE-TIME;TZID=GMT:20260731T120000Z
DTSTAMP:20260423T121332Z
END:VEVENT
END:VCALENDAR